BEGIN:VCALENDAR
VERSION:2.0
PRODID:-//Eure-et-Loir Nature - ECPv4.6.13//NONSGML v1.0//EN
CALSCALE:GREGORIAN
METHOD:PUBLISH
X-WR-CALNAME:Eure-et-Loir Nature
X-ORIGINAL-URL:https://www.eln28.org
X-WR-CALDESC:Évènements pour Eure-et-Loir Nature
BEGIN:VEVENT
DTSTART;TZID=Europe/Paris:20260408T143000
DTEND;TZID=Europe/Paris:20260408T170000
DTSTAMP:20260420T033013
CREATED:20260305T083326Z
LAST-MODIFIED:20260305T083326Z
UID:4660-1775658600-1775667600@www.eln28.org
SUMMARY:TOUS AU COMPOST !
DESCRIPTION:
URL:https://www.eln28.org/agenda/tous-au-compost-2/
LOCATION:28 rue d'Anjou\, Mainvilliers\, 28300
ATTACH;FMTTYPE=image/png:https://www.eln28.org/wp-content/uploads/2026/03/08-04-2026-Tous-au-compost-.png
END:VEVENT
END:VCALENDAR