BEGIN:VCALENDAR
VERSION:2.0
PRODID:-//Eure-et-Loir Nature - ECPv4.6.13//NONSGML v1.0//EN
CALSCALE:GREGORIAN
METHOD:PUBLISH
X-WR-CALNAME:Eure-et-Loir Nature
X-ORIGINAL-URL:https://www.eln28.org
X-WR-CALDESC:Évènements pour Eure-et-Loir Nature
BEGIN:VEVENT
DTSTART;TZID=Europe/Paris:20260523T140000
DTEND;TZID=Europe/Paris:20260523T163000
DTSTAMP:20260420T015345
CREATED:20260227T143638Z
LAST-MODIFIED:20260227T143638Z
UID:4657-1779544800-1779553800@www.eln28.org
SUMMARY:PLONGEZ AU CŒUR DE L'OR DES ABEILLES !
DESCRIPTION:
URL:https://www.eln28.org/agenda/plongez-au-coeur-de-lor-des-abeilles-2/
LOCATION:28200
ATTACH;FMTTYPE=image/png:https://www.eln28.org/wp-content/uploads/2026/02/20-23-05-2026-Découverte-des-abeilles.png
END:VEVENT
END:VCALENDAR