BEGIN:VCALENDAR
VERSION:2.0
PRODID:-//Eure-et-Loir Nature - ECPv4.6.13//NONSGML v1.0//EN
CALSCALE:GREGORIAN
METHOD:PUBLISH
X-WR-CALNAME:Eure-et-Loir Nature
X-ORIGINAL-URL:https://www.eln28.org
X-WR-CALDESC:Évènements pour Eure-et-Loir Nature
BEGIN:VEVENT
DTSTART;TZID=Europe/Paris:20250412T100000
DTEND;TZID=Europe/Paris:20250412T120000
DTSTAMP:20260426T010736
CREATED:20250221T104429Z
LAST-MODIFIED:20250221T104429Z
UID:4289-1744452000-1744459200@www.eln28.org
SUMMARY:PLANTES SAUVAGES COMESTIBLES
DESCRIPTION:
URL:https://www.eln28.org/agenda/plantes-sauvages-comestibles/
LOCATION:9 rue de Chavannes\, MORANCEZ\, 28630
ATTACH;FMTTYPE=image/png:https://www.eln28.org/wp-content/uploads/2025/02/12-04-2025-Plantes-sauvages-comestibles.png
END:VEVENT
END:VCALENDAR