BEGIN:VCALENDAR
VERSION:2.0
PRODID:-//Eure-et-Loir Nature - ECPv4.6.13//NONSGML v1.0//EN
CALSCALE:GREGORIAN
METHOD:PUBLISH
X-WR-CALNAME:Eure-et-Loir Nature
X-ORIGINAL-URL:https://www.eln28.org
X-WR-CALDESC:Évènements pour Eure-et-Loir Nature
BEGIN:VEVENT
DTSTART;TZID=Europe/Paris:20250118T100000
DTEND;TZID=Europe/Paris:20250118T160000
DTSTAMP:20260424T044019
CREATED:20241105T140320Z
LAST-MODIFIED:20241105T140320Z
UID:4031-1737194400-1737216000@www.eln28.org
SUMMARY:OBSERVATION DES OISEAUX EN HIVER
DESCRIPTION:
URL:https://www.eln28.org/agenda/observation-des-oiseaux-en-hiver-10/
ATTACH;FMTTYPE=image/png:https://www.eln28.org/wp-content/uploads/2024/11/18-01-01-03-2025-Oiseaux-hiver-Seresville.png
END:VEVENT
END:VCALENDAR