BEGIN:VCALENDAR
VERSION:2.0
PRODID:-//Eure-et-Loir Nature - ECPv4.6.13//NONSGML v1.0//EN
CALSCALE:GREGORIAN
METHOD:PUBLISH
X-WR-CALNAME:Eure-et-Loir Nature
X-ORIGINAL-URL:https://www.eln28.org
X-WR-CALDESC:Évènements pour Eure-et-Loir Nature
BEGIN:VEVENT
DTSTART;TZID=Europe/Paris:20240420T100000
DTEND;TZID=Europe/Paris:20240420T120000
DTSTAMP:20260426T034517
CREATED:20240308T125310Z
LAST-MODIFIED:20240308T125310Z
UID:3584-1713607200-1713614400@www.eln28.org
SUMMARY:OBSERVATION DES JACINTHES SAUVAGES
DESCRIPTION:
URL:https://www.eln28.org/agenda/observation-des-jacinthes-sauvages-2/
ATTACH;FMTTYPE=image/png:https://www.eln28.org/wp-content/uploads/2024/03/17-20-24-Avril-Sortie-Jacinthes-sauvages.png
END:VEVENT
END:VCALENDAR