BEGIN:VCALENDAR
VERSION:2.0
PRODID:-//Eure-et-Loir Nature - ECPv4.6.13//NONSGML v1.0//EN
CALSCALE:GREGORIAN
METHOD:PUBLISH
X-WR-CALNAME:Eure-et-Loir Nature
X-ORIGINAL-URL:https://www.eln28.org
X-WR-CALDESC:Évènements pour Eure-et-Loir Nature
BEGIN:VEVENT
DTSTART;TZID=Europe/Paris:20250316T100000
DTEND;TZID=Europe/Paris:20250316T120000
DTSTAMP:20260426T011439
CREATED:20250123T092034Z
LAST-MODIFIED:20250123T092542Z
UID:4240-1742119200-1742126400@www.eln28.org
SUMMARY:INITIATION AUX CHANTS D’OISEAUX
DESCRIPTION:
URL:https://www.eln28.org/agenda/initiation-aux-chants-doiseaux/
LOCATION:9 Rue de Chavannes\, Morancez\, 28630\, France
ATTACH;FMTTYPE=image/png:https://www.eln28.org/wp-content/uploads/2025/01/16-03-2025-Chants-doiseaux-Morancez-1.png
END:VEVENT
END:VCALENDAR