BEGIN:VCALENDAR
VERSION:2.0
PRODID:-//Eure-et-Loir Nature - ECPv4.6.13//NONSGML v1.0//EN
CALSCALE:GREGORIAN
METHOD:PUBLISH
X-WR-CALNAME:Eure-et-Loir Nature
X-ORIGINAL-URL:https://www.eln28.org
X-WR-CALDESC:Évènements pour Eure-et-Loir Nature
BEGIN:VEVENT
DTSTART;TZID=Europe/Paris:20210206T140000
DTEND;TZID=Europe/Paris:20210206T173000
DTSTAMP:20260422T134249
CREATED:20201208T092045Z
LAST-MODIFIED:20210112T130355Z
UID:2538-1612620000-1612632600@www.eln28.org
SUMMARY:Atelier vannerie à Morancez - 2ème atelier
DESCRIPTION:Sam 30 Janvier\, 6 et 13 Février à partir de 14h > Trois après-midi d’atelier vannerie à la Maison de la Nature\, Morancez \nRéalisation de paniers et autres objets en vannerie. Pensez à apporter des gants et un sécateur bien aiguisé. \nLimitation à 6 personnes en raison des mesures anti-COVID \nInscription et renseignements (de préférence par mail) auprès de Valérye Heuqueville : v.heuqueville@eln28.org \n
URL:https://www.eln28.org/agenda/atelier-vannerie-a-morancez-2eme-atelier/
ATTACH;FMTTYPE=image/jpeg:https://www.eln28.org/wp-content/uploads/2020/12/Réalisation-atelier-vannerie-©-Amie-de-Catherine.jpg
END:VEVENT
END:VCALENDAR